{
 "currentVersion": 11.5,
 "cimVersion": "3.5.0",
 "serviceDescription": "",
 "mapName": "MyJalan",
 "description": "",
 "copyrightText": "",
 "supportsDynamicLayers": true,
 "layers": [
  {
   "id": 0,
   "name": "Toll Expressway or Highway WM",
   "parentLayerId": -1,
   "defaultVisibility": true,
   "subLayerIds": null,
   "minScale": 5000000,
   "maxScale": 1000,
   "type": "Feature Layer",
   "geometryType": "esriGeometryPolyline",
   "supportsDynamicLegends": true
  },
  {
   "id": 1,
   "name": "Federal Trunk Road (Jalan Persekutuan) WM",
   "parentLayerId": -1,
   "defaultVisibility": true,
   "subLayerIds": null,
   "minScale": 5000000,
   "maxScale": 1000,
   "type": "Feature Layer",
   "geometryType": "esriGeometryPolyline",
   "supportsDynamicLegends": true
  },
  {
   "id": 2,
   "name": "State Road (Jalan Negeri) WM",
   "parentLayerId": -1,
   "defaultVisibility": true,
   "subLayerIds": null,
   "minScale": 3000000,
   "maxScale": 1000,
   "type": "Feature Layer",
   "geometryType": "esriGeometryPolyline",
   "supportsDynamicLegends": true
  },
  {
   "id": 3,
   "name": "Municipility Road (Jalan PBT) WM",
   "parentLayerId": -1,
   "defaultVisibility": true,
   "subLayerIds": null,
   "minScale": 3000000,
   "maxScale": 1000,
   "type": "Feature Layer",
   "geometryType": "esriGeometryPolyline",
   "supportsDynamicLegends": true
  }
 ],
 "tables": [],
 "spatialReference": {
  "wkt2": "PROJCRS[\"GDM_2000_RSO_Peninsular_Malaysia\",BASEGEOGCRS[\"GCS_GDM_2000\",DATUM[\"D_GDM_2000\",ELLIPSOID[\"GRS_1980\",6378137.0,298.257222101,LENGTHUNIT[\"Meter\",1.0]]],PRIMEM[\"Greenwich\",0.0,ANGLEUNIT[\"Degree\",0.0174532925199433]],CS[ellipsoidal,2],AXIS[\"Latitude (lat)\",north,ORDER[1]],AXIS[\"Longitude (lon)\",east,ORDER[2]],ANGLEUNIT[\"Degree\",0.0174532925199433]],CONVERSION[\"Rectified_Skew_Orthomorphic_Natural_Origin\",METHOD[\"Rectified_Skew_Orthomorphic_Natural_Origin\"],PARAMETER[\"False_Easting\",804671.0,LENGTHUNIT[\"Meter\",1.0]],PARAMETER[\"False_Northing\",0.0,LENGTHUNIT[\"Meter\",1.0]],PARAMETER[\"Scale_Factor\",0.99984,SCALEUNIT[\"Unity\",1.0]],PARAMETER[\"Azimuth\",323.0257964666666,ANGLEUNIT[\"Degree\",0.0174532925199433]],PARAMETER[\"Longitude_Of_Center\",102.25,ANGLEUNIT[\"Degree\",0.0174532925199433]],PARAMETER[\"Latitude_Of_Center\",4.0,ANGLEUNIT[\"Degree\",0.0174532925199433]],PARAMETER[\"XY_Plane_Rotation\",-36.86989764584402,ANGLEUNIT[\"Degree\",0.0174532925199433]]],CS[Cartesian,2],AXIS[\"Easting (X)\",east,ORDER[1]],AXIS[\"Northing (Y)\",north,ORDER[2]],LENGTHUNIT[\"Meter\",1.0]]",
  "wkt": "PROJCS[\"GDM_2000_RSO_Peninsular_Malaysia\",GEOGCS[\"GCS_GDM_2000\",DATUM[\"D_GDM_2000\",SPHEROID[\"GRS_1980\",6378137.0,298.257222101]],PRIMEM[\"Greenwich\",0.0],UNIT[\"Degree\",0.0174532925199433]],PROJECTION[\"Rectified_Skew_Orthomorphic_Natural_Origin\"],PARAMETER[\"False_Easting\",804671.0],PARAMETER[\"False_Northing\",0.0],PARAMETER[\"Scale_Factor\",0.99984],PARAMETER[\"Azimuth\",323.0257964666666],PARAMETER[\"Longitude_Of_Center\",102.25],PARAMETER[\"Latitude_Of_Center\",4.0],PARAMETER[\"XY_Plane_Rotation\",-36.86989764584402],UNIT[\"Meter\",1.0]]",
  "xyTolerance": 0.001,
  "zTolerance": 0.001,
  "mTolerance": 0.001,
  "falseX": -30656400,
  "falseY": -28732700,
  "xyUnits": 10000,
  "falseZ": -100000,
  "zUnits": 10000,
  "falseM": -100000,
  "mUnits": 10000
 },
 "singleFusedMapCache": true,
 "tileInfo": {
  "rows": 256,
  "cols": 256,
  "dpi": 96,
  "format": "JPEG",
  "compressionQuality": 90,
  "origin": {
   "x": -3.065621875479365E7,
   "y": 3.146339543973481E7
  },
  "spatialReference": {
   "wkt2": "PROJCRS[\"GDM_2000_RSO_Peninsular_Malaysia\",BASEGEOGCRS[\"GCS_GDM_2000\",DATUM[\"D_GDM_2000\",ELLIPSOID[\"GRS_1980\",6378137.0,298.257222101,LENGTHUNIT[\"Meter\",1.0]]],PRIMEM[\"Greenwich\",0.0,ANGLEUNIT[\"Degree\",0.0174532925199433]],CS[ellipsoidal,2],AXIS[\"Latitude (lat)\",north,ORDER[1]],AXIS[\"Longitude (lon)\",east,ORDER[2]],ANGLEUNIT[\"Degree\",0.0174532925199433]],CONVERSION[\"Rectified_Skew_Orthomorphic_Natural_Origin\",METHOD[\"Rectified_Skew_Orthomorphic_Natural_Origin\"],PARAMETER[\"False_Easting\",804671.0,LENGTHUNIT[\"Meter\",1.0]],PARAMETER[\"False_Northing\",0.0,LENGTHUNIT[\"Meter\",1.0]],PARAMETER[\"Scale_Factor\",0.99984,SCALEUNIT[\"Unity\",1.0]],PARAMETER[\"Azimuth\",323.0257964666666,ANGLEUNIT[\"Degree\",0.0174532925199433]],PARAMETER[\"Longitude_Of_Center\",102.25,ANGLEUNIT[\"Degree\",0.0174532925199433]],PARAMETER[\"Latitude_Of_Center\",4.0,ANGLEUNIT[\"Degree\",0.0174532925199433]],PARAMETER[\"XY_Plane_Rotation\",-36.86989764584402,ANGLEUNIT[\"Degree\",0.0174532925199433]]],CS[Cartesian,2],AXIS[\"Easting (X)\",east,ORDER[1]],AXIS[\"Northing (Y)\",north,ORDER[2]],LENGTHUNIT[\"Meter\",1.0]]",
   "wkt": "PROJCS[\"GDM_2000_RSO_Peninsular_Malaysia\",GEOGCS[\"GCS_GDM_2000\",DATUM[\"D_GDM_2000\",SPHEROID[\"GRS_1980\",6378137.0,298.257222101]],PRIMEM[\"Greenwich\",0.0],UNIT[\"Degree\",0.0174532925199433]],PROJECTION[\"Rectified_Skew_Orthomorphic_Natural_Origin\"],PARAMETER[\"False_Easting\",804671.0],PARAMETER[\"False_Northing\",0.0],PARAMETER[\"Scale_Factor\",0.99984],PARAMETER[\"Azimuth\",323.0257964666666],PARAMETER[\"Longitude_Of_Center\",102.25],PARAMETER[\"Latitude_Of_Center\",4.0],PARAMETER[\"XY_Plane_Rotation\",-36.86989764584402],UNIT[\"Meter\",1.0]]",
   "xyTolerance": 0.001,
   "zTolerance": 0.001,
   "mTolerance": 0.001,
   "falseX": -30656400,
   "falseY": -28732700,
   "xyUnits": 10000,
   "falseZ": -100000,
   "zUnits": 10000,
   "falseM": -100000,
   "mUnits": 10000
  },
  "lods": [
   {
    "level": 0,
    "resolution": 245820.5832422725,
    "scale": 9.290856689471716E8
   },
   {
    "level": 1,
    "resolution": 122910.29162113625,
    "scale": 4.645428344735858E8
   },
   {
    "level": 2,
    "resolution": 61455.14581056812,
    "scale": 2.322714172367929E8
   },
   {
    "level": 3,
    "resolution": 30727.57290528406,
    "scale": 1.1613570861839645E8
   },
   {
    "level": 4,
    "resolution": 15363.78645264203,
    "scale": 5.806785430919822E7
   },
   {
    "level": 5,
    "resolution": 7681.893226321015,
    "scale": 2.903392715459911E7
   },
   {
    "level": 6,
    "resolution": 3840.9466131605077,
    "scale": 1.4516963577299556E7
   },
   {
    "level": 7,
    "resolution": 1920.4733065802538,
    "scale": 7258481.788649778
   },
   {
    "level": 8,
    "resolution": 960.2366532901269,
    "scale": 3629240.894324889
   },
   {
    "level": 9,
    "resolution": 480.11832664506346,
    "scale": 1814620.4471624445
   },
   {
    "level": 10,
    "resolution": 240.05916332253173,
    "scale": 907310.2235812222
   },
   {
    "level": 11,
    "resolution": 120.02958166126587,
    "scale": 453655.1117906111
   },
   {
    "level": 12,
    "resolution": 60.01479083063293,
    "scale": 226827.55589530556
   },
   {
    "level": 13,
    "resolution": 30.007395415316466,
    "scale": 113413.77794765278
   },
   {
    "level": 14,
    "resolution": 15.003697707658233,
    "scale": 56706.88897382639
   },
   {
    "level": 15,
    "resolution": 7.501848853829117,
    "scale": 28353.444486913195
   },
   {
    "level": 16,
    "resolution": 3.7509244269145583,
    "scale": 14176.722243456597
   },
   {
    "level": 17,
    "resolution": 1.8754622134572791,
    "scale": 7088.361121728299
   },
   {
    "level": 18,
    "resolution": 0.9377311067286396,
    "scale": 3544.1805608641494
   }
  ]
 },
 "storageInfo": {
  "storageFormat": "esriMapCacheStorageModeCompactV2",
  "packetSize": 128
 },
 "initialExtent": {
  "xmin": 134430.06687084702,
  "ymin": 96171.90645322093,
  "xmax": 1118258.7011947972,
  "ymax": 798059.976896039,
  "spatialReference": {
   "wkt2": "PROJCRS[\"GDM_2000_RSO_Peninsular_Malaysia\",BASEGEOGCRS[\"GCS_GDM_2000\",DATUM[\"D_GDM_2000\",ELLIPSOID[\"GRS_1980\",6378137.0,298.257222101,LENGTHUNIT[\"Meter\",1.0]]],PRIMEM[\"Greenwich\",0.0,ANGLEUNIT[\"Degree\",0.0174532925199433]],CS[ellipsoidal,2],AXIS[\"Latitude (lat)\",north,ORDER[1]],AXIS[\"Longitude (lon)\",east,ORDER[2]],ANGLEUNIT[\"Degree\",0.0174532925199433]],CONVERSION[\"Rectified_Skew_Orthomorphic_Natural_Origin\",METHOD[\"Rectified_Skew_Orthomorphic_Natural_Origin\"],PARAMETER[\"False_Easting\",804671.0,LENGTHUNIT[\"Meter\",1.0]],PARAMETER[\"False_Northing\",0.0,LENGTHUNIT[\"Meter\",1.0]],PARAMETER[\"Scale_Factor\",0.99984,SCALEUNIT[\"Unity\",1.0]],PARAMETER[\"Azimuth\",323.0257964666666,ANGLEUNIT[\"Degree\",0.0174532925199433]],PARAMETER[\"Longitude_Of_Center\",102.25,ANGLEUNIT[\"Degree\",0.0174532925199433]],PARAMETER[\"Latitude_Of_Center\",4.0,ANGLEUNIT[\"Degree\",0.0174532925199433]],PARAMETER[\"XY_Plane_Rotation\",-36.86989764584402,ANGLEUNIT[\"Degree\",0.0174532925199433]]],CS[Cartesian,2],AXIS[\"Easting (X)\",east,ORDER[1]],AXIS[\"Northing (Y)\",north,ORDER[2]],LENGTHUNIT[\"Meter\",1.0]]",
   "wkt": "PROJCS[\"GDM_2000_RSO_Peninsular_Malaysia\",GEOGCS[\"GCS_GDM_2000\",DATUM[\"D_GDM_2000\",SPHEROID[\"GRS_1980\",6378137.0,298.257222101]],PRIMEM[\"Greenwich\",0.0],UNIT[\"Degree\",0.0174532925199433]],PROJECTION[\"Rectified_Skew_Orthomorphic_Natural_Origin\"],PARAMETER[\"False_Easting\",804671.0],PARAMETER[\"False_Northing\",0.0],PARAMETER[\"Scale_Factor\",0.99984],PARAMETER[\"Azimuth\",323.0257964666666],PARAMETER[\"Longitude_Of_Center\",102.25],PARAMETER[\"Latitude_Of_Center\",4.0],PARAMETER[\"XY_Plane_Rotation\",-36.86989764584402],UNIT[\"Meter\",1.0]]",
   "xyTolerance": 0.001,
   "zTolerance": 0.001,
   "mTolerance": 0.001,
   "falseX": -30656400,
   "falseY": -28732700,
   "xyUnits": 10000,
   "falseZ": -100000,
   "zUnits": 10000,
   "falseM": -100000,
   "mUnits": 10000
  }
 },
 "fullExtent": {
  "xmin": 185253.08280340908,
  "ymin": 140006.52899999917,
  "xmax": 1926449.5641451662,
  "ymax": 750887.2193276422,
  "spatialReference": {
   "wkt2": "PROJCRS[\"GDM_2000_RSO_Peninsular_Malaysia\",BASEGEOGCRS[\"GCS_GDM_2000\",DATUM[\"D_GDM_2000\",ELLIPSOID[\"GRS_1980\",6378137.0,298.257222101,LENGTHUNIT[\"Meter\",1.0]]],PRIMEM[\"Greenwich\",0.0,ANGLEUNIT[\"Degree\",0.0174532925199433]],CS[ellipsoidal,2],AXIS[\"Latitude (lat)\",north,ORDER[1]],AXIS[\"Longitude (lon)\",east,ORDER[2]],ANGLEUNIT[\"Degree\",0.0174532925199433]],CONVERSION[\"Rectified_Skew_Orthomorphic_Natural_Origin\",METHOD[\"Rectified_Skew_Orthomorphic_Natural_Origin\"],PARAMETER[\"False_Easting\",804671.0,LENGTHUNIT[\"Meter\",1.0]],PARAMETER[\"False_Northing\",0.0,LENGTHUNIT[\"Meter\",1.0]],PARAMETER[\"Scale_Factor\",0.99984,SCALEUNIT[\"Unity\",1.0]],PARAMETER[\"Azimuth\",323.0257964666666,ANGLEUNIT[\"Degree\",0.0174532925199433]],PARAMETER[\"Longitude_Of_Center\",102.25,ANGLEUNIT[\"Degree\",0.0174532925199433]],PARAMETER[\"Latitude_Of_Center\",4.0,ANGLEUNIT[\"Degree\",0.0174532925199433]],PARAMETER[\"XY_Plane_Rotation\",-36.86989764584402,ANGLEUNIT[\"Degree\",0.0174532925199433]]],CS[Cartesian,2],AXIS[\"Easting (X)\",east,ORDER[1]],AXIS[\"Northing (Y)\",north,ORDER[2]],LENGTHUNIT[\"Meter\",1.0]]",
   "wkt": "PROJCS[\"GDM_2000_RSO_Peninsular_Malaysia\",GEOGCS[\"GCS_GDM_2000\",DATUM[\"D_GDM_2000\",SPHEROID[\"GRS_1980\",6378137.0,298.257222101]],PRIMEM[\"Greenwich\",0.0],UNIT[\"Degree\",0.0174532925199433]],PROJECTION[\"Rectified_Skew_Orthomorphic_Natural_Origin\"],PARAMETER[\"False_Easting\",804671.0],PARAMETER[\"False_Northing\",0.0],PARAMETER[\"Scale_Factor\",0.99984],PARAMETER[\"Azimuth\",323.0257964666666],PARAMETER[\"Longitude_Of_Center\",102.25],PARAMETER[\"Latitude_Of_Center\",4.0],PARAMETER[\"XY_Plane_Rotation\",-36.86989764584402],UNIT[\"Meter\",1.0]]",
   "xyTolerance": 0.001,
   "zTolerance": 0.001,
   "mTolerance": 0.001,
   "falseX": -30656400,
   "falseY": -28732700,
   "xyUnits": 10000,
   "falseZ": -100000,
   "zUnits": 10000,
   "falseM": -100000,
   "mUnits": 10000
  }
 },
 "datesInUnknownTimezone": false,
 "minScale": 7258481.788649778,
 "maxScale": 3544.1805608641494,
 "minLOD": 7,
 "maxLOD": 18,
 "units": "esriMeters",
 "supportedImageFormatTypes": "PNG32,PNG24,PNG,JPG,DIB,TIFF,EMF,PS,PDF,GIF,SVG,SVGZ,BMP",
 "documentInfo": {
  "Title": "Map",
  "Author": "",
  "Comments": "",
  "Subject": "",
  "Category": "",
  "Version": "2.6.0",
  "AntialiasingMode": "Fast",
  "TextAntialiasingMode": "Force",
  "Keywords": "KKR"
 },
 "supportsQueryDomains": true,
 "capabilities": "Map,Query,Data",
 "supportedQueryFormats": "JSON, geoJSON, PBF",
 "hasVersionedData": true,
 "exportTilesAllowed": true,
 "maxExportTilesCount": 100000,
 "referenceScale": 0.0,
 "datumTransformations": [
  {
   "geoTransforms": [
    {
     "wkt2": "COORDINATEOPERATION[\"RSOKertau_MRT84toWGS84_PMGSN94\",SOURCECRS[GEOGCRS[\"GCS_Kertau\",DATUM[\"D_Kertau\",ELLIPSOID[\"Everest_1830_Modified\",6377304.063,300.8017,LENGTHUNIT[\"Meter\",1.0]]],PRIMEM[\"Greenwich\",0.0,ANGLEUNIT[\"Degree\",0.0174532925199433]],CS[ellipsoidal,2],AXIS[\"Latitude (lat)\",north,ORDER[1],ANGLEUNIT[\"Degree\",0.0174532925199433]],AXIS[\"Longitude (lon)\",east,ORDER[2],ANGLEUNIT[\"Degree\",0.0174532925199433]]]],TARGETCRS[GEOGCRS[\"GCS_WGS_1984\",DATUM[\"D_WGS_1984\",ELLIPSOID[\"WGS_1984\",6378137.0,298.257223563,LENGTHUNIT[\"Meter\",1.0]]],PRIMEM[\"Greenwich\",0.0,ANGLEUNIT[\"Degree\",0.0174532925199433]],CS[ellipsoidal,2],AXIS[\"Latitude (lat)\",north,ORDER[1],ANGLEUNIT[\"Degree\",0.0174532925199433]],AXIS[\"Longitude (lon)\",east,ORDER[2],ANGLEUNIT[\"Degree\",0.0174532925199433]]]],METHOD[\"Coordinate_Frame\"],PARAMETER[\"X_Axis_Translation\",-379.73137,LENGTHUNIT[\"Meter\",1.0]],PARAMETER[\"Y_Axis_Translation\",775.4071,LENGTHUNIT[\"Meter\",1.0]],PARAMETER[\"Z_Axis_Translation\",-86.59563,LENGTHUNIT[\"Meter\",1.0]],PARAMETER[\"X_Axis_Rotation\",-2.59662,ANGLEUNIT[\"Arcsecond\",0.00000484813681109536]],PARAMETER[\"Y_Axis_Rotation\",-2.10228,ANGLEUNIT[\"Arcsecond\",0.00000484813681109536]],PARAMETER[\"Z_Axis_Rotation\",12.11374,ANGLEUNIT[\"Arcsecond\",0.00000484813681109536]],PARAMETER[\"Scale_Difference\",1.321,SCALEUNIT[\"Parts_Per_Million\",0.000001]]]",
     "wkt": "GEOGTRAN[\"RSOKertau_MRT84toWGS84_PMGSN94\",GEOGCS[\"GCS_Kertau\",DATUM[\"D_Kertau\",SPHEROID[\"Everest_1830_Modified\",6377304.063,300.8017]],PRIMEM[\"Greenwich\",0.0],UNIT[\"Degree\",0.0174532925199433]],GEOGCS[\"GCS_WGS_1984\",DATUM[\"D_WGS_1984\",SPHEROID[\"WGS_1984\",6378137.0,298.257223563]],PRIMEM[\"Greenwich\",0.0],UNIT[\"Degree\",0.0174532925199433]],METHOD[\"Coordinate_Frame\"],PARAMETER[\"X_Axis_Translation\",-379.73137],PARAMETER[\"Y_Axis_Translation\",775.4071],PARAMETER[\"Z_Axis_Translation\",-86.59563],PARAMETER[\"X_Axis_Rotation\",-2.59662],PARAMETER[\"Y_Axis_Rotation\",-2.10228],PARAMETER[\"Z_Axis_Rotation\",12.11374],PARAMETER[\"Scale_Difference\",1.321]]",
     "transformForward": false,
     "name": "RSOKertau_MRT84toWGS84_PMGSN94"
    },
    {
     "wkt2": "COORDINATEOPERATION[\"RSO_Kertau_to_GDM2000Cassini\",SOURCECRS[GEOGCRS[\"GCS_Kertau\",DATUM[\"D_Kertau\",ELLIPSOID[\"Everest_1830_Modified\",6377304.063,300.8017,LENGTHUNIT[\"Meter\",1.0]]],PRIMEM[\"Greenwich\",0.0,ANGLEUNIT[\"Degree\",0.0174532925199433]],CS[ellipsoidal,2],AXIS[\"Latitude (lat)\",north,ORDER[1],ANGLEUNIT[\"Degree\",0.0174532925199433]],AXIS[\"Longitude (lon)\",east,ORDER[2],ANGLEUNIT[\"Degree\",0.0174532925199433]]]],TARGETCRS[GEOGCRS[\"GCS_GDM_2000\",DATUM[\"D_GDM_2000\",ELLIPSOID[\"GRS_1980\",6378137.0,298.257222101,LENGTHUNIT[\"Meter\",1.0]]],PRIMEM[\"Greenwich\",0.0,ANGLEUNIT[\"Degree\",0.0174532925199433]],CS[ellipsoidal,2],AXIS[\"Latitude (lat)\",north,ORDER[1],ANGLEUNIT[\"Degree\",0.0174532925199433]],AXIS[\"Longitude (lon)\",east,ORDER[2],ANGLEUNIT[\"Degree\",0.0174532925199433]]]],METHOD[\"Coordinate_Frame\"],PARAMETER[\"X_Axis_Translation\",-381.42407,LENGTHUNIT[\"Meter\",1.0]],PARAMETER[\"Y_Axis_Translation\",777.33682,LENGTHUNIT[\"Meter\",1.0]],PARAMETER[\"Z_Axis_Translation\",-88.66677,LENGTHUNIT[\"Meter\",1.0]],PARAMETER[\"X_Axis_Rotation\",-2.63177,ANGLEUNIT[\"Arcsecond\",0.00000484813681109536]],PARAMETER[\"Y_Axis_Rotation\",-2.0737,ANGLEUNIT[\"Arcsecond\",0.00000484813681109536]],PARAMETER[\"Z_Axis_Rotation\",12.11991,ANGLEUNIT[\"Arcsecond\",0.00000484813681109536]],PARAMETER[\"Scale_Difference\",-0.24859,SCALEUNIT[\"Parts_Per_Million\",0.000001]]]",
     "wkt": "GEOGTRAN[\"RSO_Kertau_to_GDM2000Cassini\",GEOGCS[\"GCS_Kertau\",DATUM[\"D_Kertau\",SPHEROID[\"Everest_1830_Modified\",6377304.063,300.8017]],PRIMEM[\"Greenwich\",0.0],UNIT[\"Degree\",0.0174532925199433]],GEOGCS[\"GCS_GDM_2000\",DATUM[\"D_GDM_2000\",SPHEROID[\"GRS_1980\",6378137.0,298.257222101]],PRIMEM[\"Greenwich\",0.0],UNIT[\"Degree\",0.0174532925199433]],METHOD[\"Coordinate_Frame\"],PARAMETER[\"X_Axis_Translation\",-381.42407],PARAMETER[\"Y_Axis_Translation\",777.33682],PARAMETER[\"Z_Axis_Translation\",-88.66677],PARAMETER[\"X_Axis_Rotation\",-2.63177],PARAMETER[\"Y_Axis_Rotation\",-2.0737],PARAMETER[\"Z_Axis_Rotation\",12.11991],PARAMETER[\"Scale_Difference\",-0.24859]]",
     "transformForward": true,
     "name": "RSO_Kertau_to_GDM2000Cassini"
    }
   ]
  },
  {
   "geoTransforms": [
    {
     "wkt2": "COORDINATEOPERATION[\"RSO_Kertau_to_GDM2000Cassini\",SOURCECRS[GEOGCRS[\"GCS_Kertau\",DATUM[\"D_Kertau\",ELLIPSOID[\"Everest_1830_Modified\",6377304.063,300.8017,LENGTHUNIT[\"Meter\",1.0]]],PRIMEM[\"Greenwich\",0.0,ANGLEUNIT[\"Degree\",0.0174532925199433]],CS[ellipsoidal,2],AXIS[\"Latitude (lat)\",north,ORDER[1],ANGLEUNIT[\"Degree\",0.0174532925199433]],AXIS[\"Longitude (lon)\",east,ORDER[2],ANGLEUNIT[\"Degree\",0.0174532925199433]]]],TARGETCRS[GEOGCRS[\"GCS_GDM_2000\",DATUM[\"D_GDM_2000\",ELLIPSOID[\"GRS_1980\",6378137.0,298.257222101,LENGTHUNIT[\"Meter\",1.0]]],PRIMEM[\"Greenwich\",0.0,ANGLEUNIT[\"Degree\",0.0174532925199433]],CS[ellipsoidal,2],AXIS[\"Latitude (lat)\",north,ORDER[1],ANGLEUNIT[\"Degree\",0.0174532925199433]],AXIS[\"Longitude (lon)\",east,ORDER[2],ANGLEUNIT[\"Degree\",0.0174532925199433]]]],METHOD[\"Coordinate_Frame\"],PARAMETER[\"X_Axis_Translation\",-381.42407,LENGTHUNIT[\"Meter\",1.0]],PARAMETER[\"Y_Axis_Translation\",777.33682,LENGTHUNIT[\"Meter\",1.0]],PARAMETER[\"Z_Axis_Translation\",-88.66677,LENGTHUNIT[\"Meter\",1.0]],PARAMETER[\"X_Axis_Rotation\",-2.63177,ANGLEUNIT[\"Arcsecond\",0.00000484813681109536]],PARAMETER[\"Y_Axis_Rotation\",-2.0737,ANGLEUNIT[\"Arcsecond\",0.00000484813681109536]],PARAMETER[\"Z_Axis_Rotation\",12.11991,ANGLEUNIT[\"Arcsecond\",0.00000484813681109536]],PARAMETER[\"Scale_Difference\",-0.24859,SCALEUNIT[\"Parts_Per_Million\",0.000001]]]",
     "wkt": "GEOGTRAN[\"RSO_Kertau_to_GDM2000Cassini\",GEOGCS[\"GCS_Kertau\",DATUM[\"D_Kertau\",SPHEROID[\"Everest_1830_Modified\",6377304.063,300.8017]],PRIMEM[\"Greenwich\",0.0],UNIT[\"Degree\",0.0174532925199433]],GEOGCS[\"GCS_GDM_2000\",DATUM[\"D_GDM_2000\",SPHEROID[\"GRS_1980\",6378137.0,298.257222101]],PRIMEM[\"Greenwich\",0.0],UNIT[\"Degree\",0.0174532925199433]],METHOD[\"Coordinate_Frame\"],PARAMETER[\"X_Axis_Translation\",-381.42407],PARAMETER[\"Y_Axis_Translation\",777.33682],PARAMETER[\"Z_Axis_Translation\",-88.66677],PARAMETER[\"X_Axis_Rotation\",-2.63177],PARAMETER[\"Y_Axis_Rotation\",-2.0737],PARAMETER[\"Z_Axis_Rotation\",12.11991],PARAMETER[\"Scale_Difference\",-0.24859]]",
     "transformForward": false,
     "name": "RSO_Kertau_to_GDM2000Cassini"
    },
    {
     "wkt2": "COORDINATEOPERATION[\"RSOKertau_MRT84toWGS84_PMGSN94\",SOURCECRS[GEOGCRS[\"GCS_Kertau\",DATUM[\"D_Kertau\",ELLIPSOID[\"Everest_1830_Modified\",6377304.063,300.8017,LENGTHUNIT[\"Meter\",1.0]]],PRIMEM[\"Greenwich\",0.0,ANGLEUNIT[\"Degree\",0.0174532925199433]],CS[ellipsoidal,2],AXIS[\"Latitude (lat)\",north,ORDER[1],ANGLEUNIT[\"Degree\",0.0174532925199433]],AXIS[\"Longitude (lon)\",east,ORDER[2],ANGLEUNIT[\"Degree\",0.0174532925199433]]]],TARGETCRS[GEOGCRS[\"GCS_WGS_1984\",DATUM[\"D_WGS_1984\",ELLIPSOID[\"WGS_1984\",6378137.0,298.257223563,LENGTHUNIT[\"Meter\",1.0]]],PRIMEM[\"Greenwich\",0.0,ANGLEUNIT[\"Degree\",0.0174532925199433]],CS[ellipsoidal,2],AXIS[\"Latitude (lat)\",north,ORDER[1],ANGLEUNIT[\"Degree\",0.0174532925199433]],AXIS[\"Longitude (lon)\",east,ORDER[2],ANGLEUNIT[\"Degree\",0.0174532925199433]]]],METHOD[\"Coordinate_Frame\"],PARAMETER[\"X_Axis_Translation\",-379.73137,LENGTHUNIT[\"Meter\",1.0]],PARAMETER[\"Y_Axis_Translation\",775.4071,LENGTHUNIT[\"Meter\",1.0]],PARAMETER[\"Z_Axis_Translation\",-86.59563,LENGTHUNIT[\"Meter\",1.0]],PARAMETER[\"X_Axis_Rotation\",-2.59662,ANGLEUNIT[\"Arcsecond\",0.00000484813681109536]],PARAMETER[\"Y_Axis_Rotation\",-2.10228,ANGLEUNIT[\"Arcsecond\",0.00000484813681109536]],PARAMETER[\"Z_Axis_Rotation\",12.11374,ANGLEUNIT[\"Arcsecond\",0.00000484813681109536]],PARAMETER[\"Scale_Difference\",1.321,SCALEUNIT[\"Parts_Per_Million\",0.000001]]]",
     "wkt": "GEOGTRAN[\"RSOKertau_MRT84toWGS84_PMGSN94\",GEOGCS[\"GCS_Kertau\",DATUM[\"D_Kertau\",SPHEROID[\"Everest_1830_Modified\",6377304.063,300.8017]],PRIMEM[\"Greenwich\",0.0],UNIT[\"Degree\",0.0174532925199433]],GEOGCS[\"GCS_WGS_1984\",DATUM[\"D_WGS_1984\",SPHEROID[\"WGS_1984\",6378137.0,298.257223563]],PRIMEM[\"Greenwich\",0.0],UNIT[\"Degree\",0.0174532925199433]],METHOD[\"Coordinate_Frame\"],PARAMETER[\"X_Axis_Translation\",-379.73137],PARAMETER[\"Y_Axis_Translation\",775.4071],PARAMETER[\"Z_Axis_Translation\",-86.59563],PARAMETER[\"X_Axis_Rotation\",-2.59662],PARAMETER[\"Y_Axis_Rotation\",-2.10228],PARAMETER[\"Z_Axis_Rotation\",12.11374],PARAMETER[\"Scale_Difference\",1.321]]",
     "transformForward": true,
     "name": "RSOKertau_MRT84toWGS84_PMGSN94"
    }
   ]
  }
 ],
 "supportsDatumTransformation": true,
 "archivingInfo": {
  "supportsHistoricMoment": false
 },
 "supportsClipping": true,
 "supportsSpatialFilter": true,
 "supportsTimeRelation": true,
 "supportsQueryDataElements": true,
 "mapUnits": {
  "uwkid": 9001
 },
 "maxSelectionCount": 2000,
 "maxRecordCount": 2000,
 "maxImageHeight": 4096,
 "maxImageWidth": 4096,
 "supportedExtensions": "",
 "resampling": false,
 "serviceItemId": "63ceb78f87e748a5991b657485f855bb"
}
