View In:
ArcGIS JavaScript
ArcGIS Online Map Viewer
ArcGIS Earth
ArcGIS Pro
Service Description:
Map Name: MyJalan
Legend
All Layers and Tables
Dynamic Legend
Dynamic All Layers
Layers:
Description:
Service Item Id: 63ceb78f87e748a5991b657485f855bb
Copyright Text:
Spatial Reference:
0
(0)
LatestVCSWkid(0)
Single Fused Map Cache: true
Tile Info:
- Height: 256.0
- Width: 256.0
- DPI: 96.0
-
Levels of Detail: 19
-
Level ID: 0
[ Start Tile, End Tile ]
- Resolution: 245820.5832422725
- Scale: 9.290856689471716E8
-
Level ID: 1
[ Start Tile, End Tile ]
- Resolution: 122910.29162113625
- Scale: 4.645428344735858E8
-
Level ID: 2
[ Start Tile, End Tile ]
- Resolution: 61455.14581056812
- Scale: 2.322714172367929E8
-
Level ID: 3
[ Start Tile, End Tile ]
- Resolution: 30727.57290528406
- Scale: 1.1613570861839645E8
-
Level ID: 4
[ Start Tile, End Tile ]
- Resolution: 15363.78645264203
- Scale: 5.806785430919822E7
-
Level ID: 5
[ Start Tile, End Tile ]
- Resolution: 7681.893226321015
- Scale: 2.903392715459911E7
-
Level ID: 6
[ Start Tile, End Tile ]
- Resolution: 3840.9466131605077
- Scale: 1.4516963577299556E7
-
Level ID: 7
[ Start Tile, End Tile ]
- Resolution: 1920.4733065802538
- Scale: 7258481.788649778
-
Level ID: 8
[ Start Tile, End Tile ]
- Resolution: 960.2366532901269
- Scale: 3629240.894324889
-
Level ID: 9
[ Start Tile, End Tile ]
- Resolution: 480.11832664506346
- Scale: 1814620.4471624445
-
Level ID: 10
[ Start Tile, End Tile ]
- Resolution: 240.05916332253173
- Scale: 907310.2235812222
-
Level ID: 11
[ Start Tile, End Tile ]
- Resolution: 120.02958166126587
- Scale: 453655.1117906111
-
Level ID: 12
[ Start Tile, End Tile ]
- Resolution: 60.01479083063293
- Scale: 226827.55589530556
-
Level ID: 13
[ Start Tile, End Tile ]
- Resolution: 30.007395415316466
- Scale: 113413.77794765278
-
Level ID: 14
[ Start Tile, End Tile ]
- Resolution: 15.003697707658233
- Scale: 56706.88897382639
-
Level ID: 15
[ Start Tile, End Tile ]
- Resolution: 7.501848853829117
- Scale: 28353.444486913195
-
Level ID: 16
[ Start Tile, End Tile ]
- Resolution: 3.7509244269145583
- Scale: 14176.722243456597
-
Level ID: 17
[ Start Tile, End Tile ]
- Resolution: 1.8754622134572791
- Scale: 7088.361121728299
-
Level ID: 18
[ Start Tile, End Tile ]
- Resolution: 0.9377311067286396
- Scale: 3544.1805608641494
- Format: JPEG
- Compression Quality: 90.0
- Origin: X: -3.065621875479365E7
Y: 3.146339543973481E7
- Spatial Reference: 0
(0)
LatestVCSWkid(0)
Storage Info:
- Storage Format: esriMapCacheStorageModeCompactV2
- Packet Size: 128
Initial Extent:
XMin: 134430.06687084702
YMin: 96171.90645322093
XMax: 1118258.7011947972
YMax: 798059.976896039
Spatial Reference: 0
(0)
LatestVCSWkid(0)
Full Extent:
XMin: 185253.08280340908
YMin: 140006.52899999917
XMax: 1926449.5641451662
YMax: 750887.2193276422
Spatial Reference: 0
(0)
LatestVCSWkid(0)
Units: esriMeters
Supported Image Format Types: PNG32,PNG24,PNG,JPG,DIB,TIFF,EMF,PS,PDF,GIF,SVG,SVGZ,BMP
Document Info:
Title: Map
Author:
Comments:
Subject:
Category:
Keywords: KKR
AntialiasingMode: Fast
TextAntialiasingMode: Force
Supports Dynamic Layers: true
Resampling: false
MaxRecordCount: 2000
MaxSelectionCount: 2000
MaxImageHeight: 4096
MaxImageWidth: 4096
Supported Query Formats: JSON, geoJSON, PBF
Supports Query Data Elements: true
Min Scale: 7258481.788649778
Max Scale: 3544.1805608641494
Min LOD: 7
Max LOD: 18
Supports Datum Transformation: true
Child Resources:
Info
Dynamic Layer
Supported Operations:
Export Map
Identify
QueryLegends
QueryDomains
Find
EstimateExportTilesSize
ExportTiles
Return Updates